BEGIN:VCALENDAR
VERSION:2.0
PRODID:spatie/icalendar-generator
DESCRIPTION:Events from Rainbow Omega\, Inc.
X-WR-CALDESC:Events from Rainbow Omega\, Inc.
REFRESH-INTERVAL;VALUE=DURATION:PT1440M
X-PUBLISHED-TTL:PT1440M
BEGIN:VTIMEZONE
TZID:Etc/GMT+0
BEGIN:STANDARD
DTSTART:20251130T180000Z
TZOFFSETFROM:+0000
TZOFFSETTO:+0000
END:STANDARD
END:VTIMEZONE
BEGIN:VTIMEZONE
TZID:UTC
BEGIN:STANDARD
DTSTART:20250728T201823Z
TZOFFSETFROM:+0000
TZOFFSETTO:+0000
END:STANDARD
END:VTIMEZONE
BEGIN:VEVENT
UID:75-47
DTSTAMP:20260424T201823Z
SUMMARY:Annual Fundraising Dinner - An Evening with Birmingham Stallions He
 ad Coach AJ McCarron and Katherine McCarron
LOCATION:Protective Stadium 1001 22nd Street\, N  Birmingham Alabama 35203
ORGANIZER;CN=Denise Taylor:MAILTO:dtaylor@rainbowomega.org
DTSTART;TZID=Etc/GMT+0:20260827T180000
DTEND;TZID=Etc/GMT+0:20260827T210000
X-ALT-DESC;FMTTYPE=TEXT/HTML:Please make plans to join us for an evening of
  inspiration\, encouragement and giving on Thursday\, August 27\, 2026 in 
 Birmingham at Protective Stadium. We are excited to have Birmingham Stalli
 ons Head Coach AJ &amp;amp\; Katherine McCarron as our keynote speakers. They 
 will share the importance of leadership and how they choose to invest thei
 r&amp;hellip\;
CATEGORIES:General
URL;VALUE=URI:https://rainbowomega.org/mc-events/annual-fundraising-dinner-
 an-evening-with-birmingham-stallions-head-coach-aj-mccarron-and-katherine-
 mccarron/
METHOD:PUBLISH
END:VEVENT
END:VCALENDAR