BEGIN:VCALENDAR
VERSION:2.0
PRODID:spatie/icalendar-generator
DESCRIPTION:Events from Rainbow Omega\, Inc.
X-WR-CALDESC:Events from Rainbow Omega\, Inc.
REFRESH-INTERVAL;VALUE=DURATION:PT1440M
X-PUBLISHED-TTL:PT1440M
BEGIN:VTIMEZONE
TZID:Etc/GMT+0
BEGIN:STANDARD
DTSTART:20250729T090000Z
TZOFFSETFROM:+0000
TZOFFSETTO:+0000
END:STANDARD
END:VTIMEZONE
BEGIN:VTIMEZONE
TZID:UTC
BEGIN:STANDARD
DTSTART:20250728T201941Z
TZOFFSETFROM:+0000
TZOFFSETTO:+0000
END:STANDARD
END:VTIMEZONE
BEGIN:VEVENT
UID:73-39
DTSTAMP:20260424T201941Z
SUMMARY:Tackle the Hills Challenge Walk for Autism Awareness
LOCATION:Rainbow Omega 100 Hope Drive  Eastaboga AL 36260
ORGANIZER;CN=Denise Taylor:MAILTO:dtaylor@rainbowomega.org
DTSTART;TZID=Etc/GMT+0:20260425T090000
DTEND;TZID=Etc/GMT+0:20260425T110000
X-ALT-DESC;FMTTYPE=TEXT/HTML:
CATEGORIES:General
URL;VALUE=URI:https://rainbowomega.org/mc-events/tackle-the-hills-challenge
 -walk-for-autism-awareness/
METHOD:PUBLISH
END:VEVENT
END:VCALENDAR